BEGIN:VCALENDAR
VERSION:2.0
PRODID:-//CRAZY-GRILL De Praam Aalsmeer - ECPv6.15.20//NONSGML v1.0//EN
CALSCALE:GREGORIAN
METHOD:PUBLISH
X-ORIGINAL-URL:https://www.restaurantdepraam.nl
X-WR-CALDESC:Evenementen voor CRAZY-GRILL De Praam Aalsmeer
REFRESH-INTERVAL;VALUE=DURATION:PT1H
X-Robots-Tag:noindex
X-PUBLISHED-TTL:PT1H
BEGIN:VTIMEZONE
TZID:Europe/Amsterdam
BEGIN:DAYLIGHT
TZOFFSETFROM:+0100
TZOFFSETTO:+0200
TZNAME:CEST
DTSTART:20230326T010000
END:DAYLIGHT
BEGIN:STANDARD
TZOFFSETFROM:+0200
TZOFFSETTO:+0100
TZNAME:CET
DTSTART:20231029T010000
END:STANDARD
BEGIN:DAYLIGHT
TZOFFSETFROM:+0100
TZOFFSETTO:+0200
TZNAME:CEST
DTSTART:20240331T010000
END:DAYLIGHT
BEGIN:STANDARD
TZOFFSETFROM:+0200
TZOFFSETTO:+0100
TZNAME:CET
DTSTART:20241027T010000
END:STANDARD
BEGIN:DAYLIGHT
TZOFFSETFROM:+0100
TZOFFSETTO:+0200
TZNAME:CEST
DTSTART:20250330T010000
END:DAYLIGHT
BEGIN:STANDARD
TZOFFSETFROM:+0200
TZOFFSETTO:+0100
TZNAME:CET
DTSTART:20251026T010000
END:STANDARD
END:VTIMEZONE
BEGIN:VEVENT
DTSTART;TZID=Europe/Amsterdam:20241123T200000
DTEND;TZID=Europe/Amsterdam:20241123T230000
DTSTAMP:20260420T210150
CREATED:20241019T100629Z
LAST-MODIFIED:20241022T110558Z
UID:1127-1732392000-1732402800@www.restaurantdepraam.nl
SUMMARY:SINTER PUB-QUIZ
DESCRIPTION:Doe mee met onze SINTER PUB-QUIZ!\nVerkleedthema Sinterklaas\, het best verklede team wint 5 punten! \nGeef je team op (5 euro p.p.) inclusief hapje en drankje bij binnenkomst. \n1e\, 2e en 3e prijswinnaars. \nAANVANG 19:30 UUR \\ DEELNAME 5 EURO P.P.
URL:https://www.restaurantdepraam.nl/agenda/sinter-pub-quiz/
END:VEVENT
BEGIN:VEVENT
DTSTART;TZID=Europe/Amsterdam:20241026T220000
DTEND;TZID=Europe/Amsterdam:20241027T023000
DTSTAMP:20260420T210150
CREATED:20240927T140524Z
LAST-MODIFIED:20241022T110612Z
UID:1047-1729980000-1729996200@www.restaurantdepraam.nl
SUMMARY:HALLOWEEN
DESCRIPTION:HALLOWEEN NIGHT \nKom verkleed en krijg een shotje bij binnenkomst. \nDe originaliteitsprijs is een DINERBON TWV 50 EURO! \nAANVANG: 22:00 UUR \\ ENTREE: GRATIS
URL:https://www.restaurantdepraam.nl/agenda/halloween/
END:VEVENT
BEGIN:VEVENT
DTSTART;TZID=Europe/Amsterdam:20241005T220000
DTEND;TZID=Europe/Amsterdam:20241006T023000
DTSTAMP:20260420T210150
CREATED:20240923T141959Z
LAST-MODIFIED:20240927T140628Z
UID:1034-1728165600-1728181800@www.restaurantdepraam.nl
SUMMARY:OKTOBERFEST
DESCRIPTION:Vier het OKTOBERFEST in De Praam! \nSamen met DJ Carmine presenteren wij de leukste en gezelligste uitvoering van het Oktoberfest van Aalsmeer en omstreken. \nVanaf 22.00 uur gaat de muziek aan en kan het feest beginnen. \nACTIE! Flugeldoos is €50 en je krijgt er een cadeautje bij! \nTot 5 oktober! \n*LET OP DE DRESSCODE* \nKlik hier voor info… \nAANVANG 22:00 UUR // ENTREE: GRATIS
URL:https://www.restaurantdepraam.nl/agenda/oktoberfest/
END:VEVENT
BEGIN:VEVENT
DTSTART;TZID=Europe/Amsterdam:20240914T200000
DTEND;TZID=Europe/Amsterdam:20240915T023000
DTSTAMP:20260420T210150
CREATED:20240905T125511Z
LAST-MODIFIED:20240905T125538Z
UID:1019-1726344000-1726367400@www.restaurantdepraam.nl
SUMMARY:1 JARIG JUBILEUM!
DESCRIPTION:ZORG DAT JE ERBIJ BENT!\nHaal je kaarten op in de Praam\, 5 euro per stuk INCLUSIEF 1X CONSUMPTIE VOUCHER. \nZaterdag 14 September\, het 1 jarig jubileum vieren wij met een besloten feest. Toegang tot 00:30 uur. Na 00:30 UUR GEEN TOEGANG\, roken is ook niet meer naar binnen\, dit ivm de drukte van de feesttent. \nHaal je kaarten en loop deze avond niet mis! \nDJ CARMINE verzorgt de muziek! \nEN…. EDO BARENDS komt optreden! \nKlik voor meer info…
URL:https://www.restaurantdepraam.nl/agenda/1-jarig-jubileum/
END:VEVENT
BEGIN:VEVENT
DTSTART;TZID=Europe/Amsterdam:20240710T180000
DTEND;TZID=Europe/Amsterdam:20240710T233000
DTSTAMP:20260420T210150
CREATED:20240707T110710Z
LAST-MODIFIED:20240707T110850Z
UID:1011-1720634400-1720654200@www.restaurantdepraam.nl
SUMMARY:Nederland - Engeland
DESCRIPTION:Bij mooi weer groot scherm op ons terras! \n5 grote schermen binnen! \nReserveer je tafel… \n#aalsmeer #uithoorn #mijdrecht #dekwakel #amstelveen #hoofddorp
URL:https://www.restaurantdepraam.nl/agenda/nederland-engeland/
END:VEVENT
BEGIN:VEVENT
DTSTART;TZID=Europe/Amsterdam:20240706T180000
DTEND;TZID=Europe/Amsterdam:20240706T233000
DTSTAMP:20260420T210150
CREATED:20240627T101506Z
LAST-MODIFIED:20240703T091633Z
UID:1002-1720288800-1720308600@www.restaurantdepraam.nl
SUMMARY:Nederland - Turkije
DESCRIPTION:KIJK HET EK LIVE OP GROOT SCHERM OP ONS TERRAS!\nReserveer tijdig je tafel!
URL:https://www.restaurantdepraam.nl/agenda/roemenie-nederland/
END:VEVENT
BEGIN:VEVENT
DTSTART;TZID=Europe/Amsterdam:20240629T200000
DTEND;TZID=Europe/Amsterdam:20240630T010000
DTSTAMP:20260420T210150
CREATED:20240627T093840Z
LAST-MODIFIED:20240627T095041Z
UID:998-1719691200-1719709200@www.restaurantdepraam.nl
SUMMARY:Bandjesavond Aalsmeer!
DESCRIPTION:Bandjesavond 29 juni 2024 – Aalsmeer Centrum. De oude vertrouwde Bandjesavond wordt weer georganiseerd in de straten van Aalsmeer Centrum op zaterdag 29 juni. In de Zijdstraat\, Dorpsstraat\, Weteringstraat\, Marktstraat\, Punterstraat en op het Molenplein kan het publiek gratis genieten van live optredens op zes podia.
URL:https://www.restaurantdepraam.nl/agenda/bandjesavond-aalsmeer/
END:VEVENT
BEGIN:VEVENT
DTSTART;TZID=Europe/Amsterdam:20240622T200000
DTEND;TZID=Europe/Amsterdam:20240623T023000
DTSTAMP:20260420T210150
CREATED:20240609T104113Z
LAST-MODIFIED:20240609T104207Z
UID:992-1719086400-1719109800@www.restaurantdepraam.nl
SUMMARY:Let's go disco!
DESCRIPTION:Een gezellige avond vol hits!\nJaren 70/80/90 \nDRESS TO IMPRESS!
URL:https://www.restaurantdepraam.nl/agenda/lets-go-disco-2/
END:VEVENT
BEGIN:VEVENT
DTSTART;TZID=Europe/Amsterdam:20240512T160000
DTEND;TZID=Europe/Amsterdam:20240512T200000
DTSTAMP:20260420T210150
CREATED:20240424T182231Z
LAST-MODIFIED:20240424T182852Z
UID:983-1715529600-1715544000@www.restaurantdepraam.nl
SUMMARY:Moederdag Dinershow PRAAM LIVE!
DESCRIPTION:MOEDERDAG IN DE PRAAM \nMoederdag vier je natuurlijk in De Praam. \nEen fantastische dinershow met piano\, saxofoon\, mondharmonica en zang!\nAlle muziek wordt gespeeld op verzoekjes! \nReserveer snel je tafel en kom heerlijk meezingen en dansen!
URL:https://www.restaurantdepraam.nl/agenda/moederdag-dinershow-praam-live/
END:VEVENT
BEGIN:VEVENT
DTSTART;VALUE=DATE:20240511
DTEND;VALUE=DATE:20240512
DTSTAMP:20260420T210150
CREATED:20240506T080002Z
LAST-MODIFIED:20240506T080002Z
UID:988-1715385600-1715471999@www.restaurantdepraam.nl
SUMMARY:Geraniummarkt
DESCRIPTION:Het is al jaren een traditie. Op de zaterdag voor Moederdag wordt op het Raadhuisplein de populaire Geraniummarkt door Groei & Bloei Aalsmeer georganiseerd. In de Zijdstraat\, op het Molenplein en dit jaar ook in de Dorpsstraat (tussen Zijdstraat en Schoolstraat) vindt de braderie plaats. Het is dan altijd een gezellige drukte in Aalsmeer Centrum en natuurlijk staan deze twee leuke en gezellige activiteiten weer op het programma.
URL:https://www.restaurantdepraam.nl/agenda/geraniummarkt/
END:VEVENT
BEGIN:VEVENT
DTSTART;TZID=Europe/Amsterdam:20240427T160000
DTEND;TZID=Europe/Amsterdam:20240428T023000
DTSTAMP:20260420T210150
CREATED:20240404T142745Z
LAST-MODIFIED:20240404T142846Z
UID:967-1714233600-1714271400@www.restaurantdepraam.nl
SUMMARY:Koningsdag
DESCRIPTION:DE AFTERPARTY VAN AALSMEER \nVanaf 16:00 uur zijn wij geopend voor DINER EN MUZIEK! \nKom na afloop van je koningsmiddag lekker bij ons eten en genieten van de gezellige muziek. Wij zijn geopend tot 02:00 uur! \nAANVANG 16 UUR // ENTREE GRATIS
URL:https://www.restaurantdepraam.nl/agenda/koningsdag/
END:VEVENT
BEGIN:VEVENT
DTSTART;TZID=Europe/Amsterdam:20240426T210000
DTEND;TZID=Europe/Amsterdam:20240427T023000
DTSTAMP:20260420T210150
CREATED:20240404T142514Z
LAST-MODIFIED:20240417T065621Z
UID:963-1714165200-1714185000@www.restaurantdepraam.nl
SUMMARY:Koningsnacht FLUGEL PARTY
DESCRIPTION:VIER KONINGSNACHT IN DE PRAAM! \nVrijdag 26 april vier je koningsnacht in DE PRAAM!\nIn samenwerking met FLUGEL hebben wij een FLUGEL PARTY! \nDiverse acties en prijzen te winnen. \nTot Koningsnacht! \nDoos Flugel voor speciale koningsnacht prijs van 50 euro. \nAANVANG 21 UUR // ENTREE GRATIS
URL:https://www.restaurantdepraam.nl/agenda/koningsnacht/
END:VEVENT
BEGIN:VEVENT
DTSTART;TZID=Europe/Amsterdam:20240406T180000
DTEND;TZID=Europe/Amsterdam:20240407T023000
DTSTAMP:20260420T210150
CREATED:20240318T170925Z
LAST-MODIFIED:20240318T170925Z
UID:946-1712426400-1712457000@www.restaurantdepraam.nl
SUMMARY:Let's go DISCO!
DESCRIPTION:LET’S GO DISCO \nDe Praam gaat BACK TO THE 80’S! \nIn samenwerking met DJ Discolicious presenteren wij de leukste en gezelligste 80’s party van Aalsmeer en omstreken! \nDe muziek begint al om 18:00 uur tijdens het diner dus reserveer je tafel snel! Van hieruit kun je direct overgaan in het feestpubliek dat vanaf 20 uur aanwezig zal zijn. \nDe meest originele outfit wint een DINERBON!
URL:https://www.restaurantdepraam.nl/agenda/lets-go-disco/
END:VEVENT
BEGIN:VEVENT
DTSTART;TZID=Europe/Amsterdam:20240331T153000
DTEND;TZID=Europe/Amsterdam:20240401T023000
DTSTAMP:20260420T210150
CREATED:20240219T101858Z
LAST-MODIFIED:20240318T171340Z
UID:940-1711899000-1711938600@www.restaurantdepraam.nl
SUMMARY:De Praam LIVE!
DESCRIPTION:De Praam LIVE! op Eerste Paasdag  \nDe live muziek begint om 15:30 uur\, gezellig voor de lunch\, maar ook voor een borrel of diner! Mark Fledderman en Edo Barends komen optreden met allemaal Amsterdamse meezingers en Hollandse hits\, dus dat belooft een leuke middag te worden! \nNaast diner à la carte serveren wij ook een combinatie plateau met allemaal hapjes voor maar €17\,50 p.p.  \nAANVANG 15:30 // ENTREE GRATIS
URL:https://www.restaurantdepraam.nl/agenda/de-praam-live/
END:VEVENT
BEGIN:VEVENT
DTSTART;TZID=Europe/Amsterdam:20240224T220000
DTEND;TZID=Europe/Amsterdam:20240225T023000
DTSTAMP:20260420T210150
CREATED:20240215T193107Z
LAST-MODIFIED:20240219T101527Z
UID:927-1708812000-1708828200@www.restaurantdepraam.nl
SUMMARY:feestcafe
DESCRIPTION:DJ Jay on Replay \nGezellige diverse feestmuziek! \nAANVANG 22:00 // ENTREE GRATIS
URL:https://www.restaurantdepraam.nl/agenda/feestcafe/
END:VEVENT
BEGIN:VEVENT
DTSTART;TZID=Europe/Amsterdam:20240223T220000
DTEND;TZID=Europe/Amsterdam:20240224T023000
DTSTAMP:20260420T210150
CREATED:20240215T193204Z
LAST-MODIFIED:20240219T101633Z
UID:930-1708725600-1708741800@www.restaurantdepraam.nl
SUMMARY:feestcafe
DESCRIPTION:DJ Jens \nGezellige meezingers en diverse feestmuziek. \nAANVANG 22:00 // ENTREE GRATIS
URL:https://www.restaurantdepraam.nl/agenda/feestcafe-2/
END:VEVENT
END:VCALENDAR